BEGIN:VCALENDAR
VERSION:2.0
PRODID:-//Tukios.com/
BEGIN:VEVENT
UID:3da8b8ce-ca3d-4f47-a327-d1fd259318de@www.sfhkc.com
DTSTAMP:20260422T032432Z
DTSTART:20260501T150000Z
DTEND:20260501T160000Z
SUMMARY:Visitation
DESCRIPTION:
URL:https://www.sfhkc.com/obituaries/annie-gray
LOCATION: 11424 Hickman Mills Dr  KCMO MO 64134
GEO:38.9192704;-94.5255484
END:VEVENT
END:VCALENDAR