BEGIN:VCALENDAR
VERSION:2.0
PRODID:-//Tukios.com/
BEGIN:VEVENT
UID:5ebb8274-d7b2-4dc0-b1f8-51075f73eb48@www.sfhkc.com
DTSTAMP:20260422T032651Z
DTSTART:20260501T160000Z
DTEND:20260501T170000Z
SUMMARY:Funeral Service
DESCRIPTION:
URL:https://www.sfhkc.com/obituaries/annie-gray
LOCATION: 11424 Hickman Mills Dr  KCMO MO 64134
GEO:38.9192704;-94.5255484
END:VEVENT
END:VCALENDAR