BEGIN:VCALENDAR
VERSION:2.0
PRODID:-//Tukios.com/
BEGIN:VEVENT
UID:7f1eda69-99f2-47d5-bbc5-fa8d5e32a732@www.sfhkc.com
DTSTAMP:20260422T032747Z
DTSTART:20260501T183000Z
DTEND:20260501T190000Z
SUMMARY:Interment
DESCRIPTION:
URL:https://www.sfhkc.com/obituaries/annie-gray
LOCATION: 10507 Holmes Rd  KCMO MO 64131
GEO:38.9380614;-94.5733146
END:VEVENT
END:VCALENDAR