BEGIN:VCALENDAR
VERSION:2.0
PRODID:-//Tukios.com/
BEGIN:VEVENT
UID:9981a3ce-9d40-4054-9021-10cbfa2df6de@www.sfhkc.com
DTSTAMP:20260422T032747Z
DTSTART:20260425T173000Z
DTEND:20260425T183000Z
SUMMARY:Interment
DESCRIPTION:
URL:https://www.sfhkc.com/obituaries/barbara-scott
LOCATION: 8251 Hillcrest Rd.  Kansas City MO 64138
GEO:38.9753535;-94.5199453
END:VEVENT
END:VCALENDAR