BEGIN:VCALENDAR
VERSION:2.0
PRODID:-//Tukios.com/
BEGIN:VEVENT
UID:cb39a3e2-5f07-485b-bd75-e40c0aa85894@www.sfhkc.com
DTSTAMP:20260421T041140Z
DTSTART:20260502T150000Z
DTEND:20260502T160000Z
SUMMARY:Visitation
DESCRIPTION:
URL:https://www.sfhkc.com/obituaries/carolyn-jacoway
LOCATION: 1101 E Bannister Rd  Kansas City MO 64131
GEO:38.9547541;-94.5778385
END:VEVENT
END:VCALENDAR