BEGIN:VCALENDAR
VERSION:2.0
PRODID:-//Tukios.com/
BEGIN:VEVENT
UID:6d569ae6-7f02-4018-9780-f541b04e257b@www.sfhkc.com
DTSTAMP:20260421T040249Z
DTSTART:20260502T160000Z
DTEND:20260502T173000Z
SUMMARY:Funeral Service
DESCRIPTION:
URL:https://www.sfhkc.com/obituaries/carolyn-jacoway
LOCATION: 1101 E Bannister Rd  Kansas City MO 64131
GEO:38.9547541;-94.5778385
END:VEVENT
END:VCALENDAR