BEGIN:VCALENDAR
VERSION:2.0
PRODID:-//Tukios.com/
BEGIN:VEVENT
UID:c6f03ea7-ca9d-4758-b7af-cd15aef03e01@www.sfhkc.com
DTSTAMP:20260424T131056Z
DTSTART:20260508T170000Z
DTEND:20260508T180000Z
SUMMARY:Family Hour
DESCRIPTION:
URL:https://www.sfhkc.com/obituaries/gordon-thomas-sr
LOCATION: 1101 E Bannister Rd  Kansas City MO 64131
GEO:38.9547541;-94.5778385
END:VEVENT
END:VCALENDAR