BEGIN:VCALENDAR
VERSION:2.0
PRODID:-//Tukios.com/
BEGIN:VEVENT
UID:2048234a-abbb-47f2-bc28-b2953b315ec3@www.sfhkc.com
DTSTAMP:20260424T131056Z
DTSTART:20260508T180000Z
DTEND:20260508T190000Z
SUMMARY:Funeral Service
DESCRIPTION:
URL:https://www.sfhkc.com/obituaries/gordon-thomas-sr
LOCATION: 1101 E Bannister Rd  Kansas City MO 64131
GEO:38.9547541;-94.5778385
END:VEVENT
END:VCALENDAR