BEGIN:VCALENDAR
VERSION:2.0
PRODID:-//Tukios.com/
BEGIN:VEVENT
UID:9368eb23-92e6-48f9-a54b-19a2ca36cd8c@www.sfhkc.com
DTSTAMP:20260423T002543Z
DTSTART:20260425T150000Z
DTEND:20260425T160000Z
SUMMARY:Visitation
DESCRIPTION:
URL:https://www.sfhkc.com/obituaries/karen-hamilton-hardy
LOCATION: 1417 N 9th Street, Kansas City, Kansas  Kansas City KS 66101
GEO:39.1201475;-94.6320813
END:VEVENT
END:VCALENDAR