BEGIN:VCALENDAR
VERSION:2.0
PRODID:-//Tukios.com/
BEGIN:VEVENT
UID:acc98a25-4666-4414-824c-688c04dd3b88@www.sfhkc.com
DTSTAMP:20260423T001348Z
DTSTART:20260425T160000Z
DTEND:20260425T170000Z
SUMMARY:Funeral Service
DESCRIPTION:
URL:https://www.sfhkc.com/obituaries/karen-hamilton-hardy
LOCATION: 1417 N 9th Street, Kansas City, Kansas  Kansas City KS 66101
GEO:39.1201475;-94.6320813
END:VEVENT
END:VCALENDAR